BEGIN:VCALENDAR
VERSION:2.0
PRODID:-//CACSSS Community Engagement - ECPv4.6.2//NONSGML v1.0//EN
CALSCALE:GREGORIAN
METHOD:PUBLISH
X-WR-CALNAME:CACSSS Community Engagement
X-ORIGINAL-URL:http://engagement.ucc.ie
X-WR-CALDESC:Events for CACSSS Community Engagement
BEGIN:VEVENT
DTSTART;TZID=Europe/Dublin:20170919T163000
DTEND;TZID=Europe/Dublin:20170919T183000
DTSTAMP:20171031T051605
CREATED:20170912T145028Z
LAST-MODIFIED:20170912T151008Z
UID:460-1505838600-1505845800@engagement.ucc.ie
SUMMARY:Talk about expanding education for the Polish community in Cork - Polish complementary schools\, in UCC
DESCRIPTION:
URL:http://engagement.ucc.ie/event/talk-expanding-education-polish-community-cork-polish-complementary-schools-ucc-2/
LOCATION:Cobh\, Ireland
CATEGORIES:Engagement Week
ATTACH;FMTTYPE=image/jpeg:http://engagement.ucc.ie/wp-content/uploads/sites/21/2017/09/polish.jpg
END:VEVENT
END:VCALENDAR