BEGIN:VCALENDAR
VERSION:2.0
PRODID:-//CACSSS Community Engagement - ECPv4.6.2//NONSGML v1.0//EN
CALSCALE:GREGORIAN
METHOD:PUBLISH
X-WR-CALNAME:CACSSS Community Engagement
X-ORIGINAL-URL:http://engagement.ucc.ie
X-WR-CALDESC:Events for CACSSS Community Engagement
BEGIN:VEVENT
DTSTART;TZID=Europe/Dublin:20170923T110000
DTEND;TZID=Europe/Dublin:20170923T120000
DTSTAMP:20171031T051723
CREATED:20170911T105335Z
LAST-MODIFIED:20170912T151007Z
UID:291-1506164400-1506168000@engagement.ucc.ie
SUMMARY:Multi-lingual families in Cork
DESCRIPTION:This event brings together local multilingual families with staff from SLLC to workshop the challenges and opportunities that more than one home language can present. \n
URL:http://engagement.ucc.ie/event/multi-lingual-families-cork/
LOCATION:UCC Library\,College Road\, Cork\, T12 ND89\, Ireland
CATEGORIES:Engagement Week
ATTACH;FMTTYPE=image/jpeg:http://engagement.ucc.ie/wp-content/uploads/sites/21/2017/09/MULTI.jpg
END:VEVENT
END:VCALENDAR