BEGIN:VCALENDAR
VERSION:2.0
PRODID:-//CACSSS Community Engagement - ECPv4.6.2//NONSGML v1.0//EN
CALSCALE:GREGORIAN
METHOD:PUBLISH
X-WR-CALNAME:CACSSS Community Engagement
X-ORIGINAL-URL:http://engagement.ucc.ie
X-WR-CALDESC:Events for CACSSS Community Engagement
BEGIN:VEVENT
DTSTART;TZID=Europe/Dublin:20170924T110000
DTEND;TZID=Europe/Dublin:20170924T140000
DTSTAMP:20171031T051743
CREATED:20170911T105434Z
LAST-MODIFIED:20170913T082517Z
UID:293-1506250800-1506261600@engagement.ucc.ie
SUMMARY:Kilmurry Historical and Archaeological Society
DESCRIPTION:A guided tour of the monuments and recent excavations at the minor royal landscape of Rath Raithleann\, Garranes\, Co. Cork \n
URL:http://engagement.ucc.ie/event/kilmurry-historical-archaeological-society/
LOCATION:Coolmucky\, Co. Cork\, Ireland
CATEGORIES:Engagement Week
ATTACH;FMTTYPE=image/jpeg:http://engagement.ucc.ie/wp-content/uploads/sites/21/2017/09/garranes.jpg
END:VEVENT
BEGIN:VEVENT
DTSTART;TZID=UTC+0:20170924T140000
DTEND;TZID=UTC+0:20170924T170000
DTSTAMP:20171031T051743
CREATED:20170911T105505Z
LAST-MODIFIED:20170912T151007Z
UID:295-1506261600-1506272400@engagement.ucc.ie
SUMMARY:Burncourt & Environs (South Topperary) Field trip to monuments in the area.
DESCRIPTION:
URL:http://engagement.ucc.ie/event/burncourt-environs-south-topperary-field-trip-monuments-area/
LOCATION:Burncourt\,\, Co. Tipperary\, Ireland
CATEGORIES:Engagement Week
ATTACH;FMTTYPE=image/jpeg:http://engagement.ucc.ie/wp-content/uploads/sites/21/2017/09/field-trip.jpg
END:VEVENT
END:VCALENDAR